BEGIN:VCALENDAR
VERSION:2.0
PRODID:-//Église Protestante Unie de Lyon-Terreaux - ECPv4.9.2//NONSGML v1.0//EN
CALSCALE:GREGORIAN
METHOD:PUBLISH
X-WR-CALNAME:Église Protestante Unie de Lyon-Terreaux
X-ORIGINAL-URL:https://www.templelanterne.fr
X-WR-CALDESC:Évènements pour Église Protestante Unie de Lyon-Terreaux
BEGIN:VEVENT
DTSTART;TZID=Europe/Paris:20250629T103000
DTEND;TZID=Europe/Paris:20250629T160000
DTSTAMP:20260423T220025
CREATED:20250604T130940Z
LAST-MODIFIED:20250604T130940Z
UID:18031-1751193000-1751212800@www.templelanterne.fr
SUMMARY:Culte et fête de la paroisse (Caluire)
DESCRIPTION:Vous êtes toutes et tous conviés à notre fête de paroisse annuelle qui se tiendra le dimanche 29 juin au centre paroissial de Caluire. Nous vous espérons nombreux petits et grands pour ce moment de partage et de joie avant la période estivale. \nInscription nécessaire pour la paella. \nToutes les infos en suivant ce lien: https://www.templelanterne.fr/invitation-a-la-fete-paroissiale-du-dimanche-29-juin/ \nBienvenu.e.s! 
URL:https://www.templelanterne.fr/event/culte-et-fete-de-la-paroisse-caluire/
LOCATION:Salle paroissiale de Caluire\, 6 rue Albert Thomas\, Caluire-et-Cuire\, 69300\, France
CATEGORIES:Culte,Événements paroissiaux exceptionnels,Paroisse,Repas de Caluire,Vie paroissiale
ATTACH;FMTTYPE=image/jpeg:https://www.templelanterne.fr/wp-content/uploads/2018/10/brotherhood-2173097-1.jpg
END:VEVENT
END:VCALENDAR