BEGIN:VCALENDAR
VERSION:2.0
PRODID:-//Église Protestante Unie de Lyon-Terreaux - ECPv4.9.2//NONSGML v1.0//EN
CALSCALE:GREGORIAN
METHOD:PUBLISH
X-WR-CALNAME:Église Protestante Unie de Lyon-Terreaux
X-ORIGINAL-URL:https://www.templelanterne.fr
X-WR-CALDESC:Évènements pour Église Protestante Unie de Lyon-Terreaux
BEGIN:VEVENT
DTSTART;TZID=Europe/Paris:20250418T200000
DTEND;TZID=Europe/Paris:20250418T213000
DTSTAMP:20260424T014248
CREATED:20250411T160124Z
LAST-MODIFIED:20250411T160124Z
UID:17696-1745006400-1745011800@www.templelanterne.fr
SUMMARY:Célébration commune du vendredi saint
DESCRIPTION:Nous vivrons la célébration de la semaine sainte en suivant le récit de la passion dans les évangiles\, et en nous réunissant avec les paroisses de L’Eglise Protestante Unie du Grand Lyon. \nDans la joie de nous retrouver! 
URL:https://www.templelanterne.fr/event/celebration-commune-du-vendredi-saint/
LOCATION:Temple Lanterne\, 10\, rue Lanterne\, Lyon\, 69001\, France
CATEGORIES:Événements paroissiaux exceptionnels,Paroisse,Semaine sainte 2025
ATTACH;FMTTYPE=image/jpeg:https://www.templelanterne.fr/wp-content/uploads/2025/04/cross-364676_1280.jpg
END:VEVENT
END:VCALENDAR