BEGIN:VCALENDAR
VERSION:2.0
PRODID:-//Église Protestante Unie de Lyon-Terreaux - ECPv4.9.2//NONSGML v1.0//EN
CALSCALE:GREGORIAN
METHOD:PUBLISH
X-WR-CALNAME:Église Protestante Unie de Lyon-Terreaux
X-ORIGINAL-URL:https://www.templelanterne.fr
X-WR-CALDESC:Évènements pour Église Protestante Unie de Lyon-Terreaux
BEGIN:VEVENT
DTSTART;TZID=Europe/Paris:20250417T200000
DTEND;TZID=Europe/Paris:20250417T213000
DTSTAMP:20260424T014249
CREATED:20250411T155331Z
LAST-MODIFIED:20250411T155331Z
UID:17693-1744920000-1744925400@www.templelanterne.fr
SUMMARY:Célébration commune du jeudi saint
DESCRIPTION:Nous vivrons la célébration de la semaine sainte en suivant le récit de la passion dans les évangiles\, et en nous réunissant avec les paroisses de L’Eglise Protestante Unie du Grand Lyon. \nDans la joie de nous retrouver. 
URL:https://www.templelanterne.fr/event/celebration-commune-du-jeudi-saint/
LOCATION:Grand Temple\, 3\, quai Victor Augagneur\, Lyon\, 69003\, France
GEO:45.7619047;4.8415078
X-APPLE-STRUCTURED-LOCATION;VALUE=URI;X-ADDRESS=Grand Temple 3 quai Victor Augagneur Lyon 69003 France;X-APPLE-RADIUS=500;X-TITLE=3\, quai Victor Augagneur:geo:4.8415078,45.7619047
CATEGORIES:Événements paroissiaux exceptionnels,Paroisse,Semaine sainte 2025
ATTACH;FMTTYPE=image/jpeg:https://www.templelanterne.fr/wp-content/uploads/2025/04/landscape-5174546_1280.jpg
END:VEVENT
END:VCALENDAR