BEGIN:VCALENDAR
VERSION:2.0
PRODID:-//Église Protestante Unie de Lyon-Terreaux - ECPv4.9.2//NONSGML v1.0//EN
CALSCALE:GREGORIAN
METHOD:PUBLISH
X-WR-CALNAME:Église Protestante Unie de Lyon-Terreaux
X-ORIGINAL-URL:https://www.templelanterne.fr
X-WR-CALDESC:Évènements pour Église Protestante Unie de Lyon-Terreaux
BEGIN:VEVENT
DTSTART;TZID=Europe/Paris:20250118T160000
DTEND;TZID=Europe/Paris:20250118T173000
DTSTAMP:20260424T063040
CREATED:20221218T141957Z
LAST-MODIFIED:20250116T123020Z
UID:16707-1737216000-1737221400@www.templelanterne.fr
SUMMARY:Célébration Œcuménique Nationale au Grand Temple
DESCRIPTION:Dans le cadre de la Semaine de prière pour l’unité des chrétiens. \nSamedi 18 à 16h : célébration œcuménique au Grand Temple. Le public est attendu pour 13h30 \n Les dates des autres rencontres œcuméniques seront communiquées ultérieurement. \n 
URL:https://www.templelanterne.fr/event/celebration-oecumenique-3-2024-01-24/
LOCATION:Grand Temple\, 3\, quai Victor Augagneur\, Lyon\, 69003\, France
GEO:45.7619047;4.8415078
X-APPLE-STRUCTURED-LOCATION;VALUE=URI;X-ADDRESS=Grand Temple 3 quai Victor Augagneur Lyon 69003 France;X-APPLE-RADIUS=500;X-TITLE=3\, quai Victor Augagneur:geo:4.8415078,45.7619047
CATEGORIES:Célébration œcuménique,Culte,Événements paroissiaux exceptionnels,Paroisse,Semaine pour l'unité,Vie paroissiale
ATTACH;FMTTYPE=image/jpeg:https://www.templelanterne.fr/wp-content/uploads/2022/01/hands-4903050_1920.jpg
END:VEVENT
END:VCALENDAR