BEGIN:VCALENDAR
VERSION:2.0
PRODID:-//Église Protestante Unie de Lyon-Terreaux - ECPv4.9.2//NONSGML v1.0//EN
CALSCALE:GREGORIAN
METHOD:PUBLISH
X-WR-CALNAME:Église Protestante Unie de Lyon-Terreaux
X-ORIGINAL-URL:https://www.templelanterne.fr
X-WR-CALDESC:Évènements pour Église Protestante Unie de Lyon-Terreaux
BEGIN:VEVENT
DTSTART;TZID=Europe/Paris:20250420T063000
DTEND;TZID=Europe/Paris:20250420T083000
DTSTAMP:20260423T092904
CREATED:20250414T062947Z
LAST-MODIFIED:20250417T165041Z
UID:17699-1745130600-1745137800@www.templelanterne.fr
SUMMARY:Aube pascale œcuménique
DESCRIPTION:Aube Pascale commune à toutes les Églises Chrétiennes. \nA 6h30 au temple du Change \nA 7h à l’esplanade de Fourvière 
URL:https://www.templelanterne.fr/event/aube-pascale-oecumenique-3/
LOCATION:Temple du Change\, Place du Change\, Lyon\, 69005\, France
GEO:45.7645707;4.8284174
X-APPLE-STRUCTURED-LOCATION;VALUE=URI;X-ADDRESS=Temple du Change Place du Change Lyon 69005 France;X-APPLE-RADIUS=500;X-TITLE=Place du Change:geo:4.8284174,45.7645707
CATEGORIES:Célébration œcuménique,Événements paroissiaux exceptionnels,Pâques 2025,Paroisse,Semaine sainte 2025
ATTACH;FMTTYPE=image/jpeg:https://www.templelanterne.fr/wp-content/uploads/2025/04/lily-6742560_1280.jpg
END:VEVENT
BEGIN:VEVENT
DTSTART;TZID=Europe/Paris:20250420T103000
DTEND;TZID=Europe/Paris:20250420T120000
DTSTAMP:20260423T092904
CREATED:20210114T202404Z
LAST-MODIFIED:20250417T165115Z
UID:16587-1745145000-1745150400@www.templelanterne.fr
SUMMARY:Culte de Pâques\, rue Lanterne
DESCRIPTION:\n\nCulte dominical\, rue Lanterne. Bienvenue ! \nLe Culte a lieu tous les dimanches à 10h30\, au Temple de la rue Lanterne (avec mise en place d’un service de garderie : c’est l’occasion d’accueillir la jeunesse de notre Église). À Caluire et Cuire\, au centre paroissial\, un Culte est également organisé les 1er et 3ème lundi de chaque mois à 12h15 ; il est suivi d’un repas partagé. \nPour plus d’informations : http://www.templelanterne.fr/le-culte/ \n\n  \n
URL:https://www.templelanterne.fr/event/culte-rue-lanterne-2-2021-10-03-2021-10-10-2022-06-12-2-2023-06-25-2024-03-31/
LOCATION:Temple Lanterne\, 10\, rue Lanterne\, Lyon\, 69001\, France
CATEGORIES:Culte,Pâques 2025,Paroisse,Semaine sainte 2025
ATTACH;FMTTYPE=image/jpeg:https://www.templelanterne.fr/wp-content/uploads/2024/03/daisy-4373803_640.jpg
END:VEVENT
END:VCALENDAR