BEGIN:VCALENDAR
VERSION:2.0
PRODID:-//Église Protestante Unie de Lyon-Terreaux - ECPv4.9.2//NONSGML v1.0//EN
CALSCALE:GREGORIAN
METHOD:PUBLISH
X-WR-CALNAME:Église Protestante Unie de Lyon-Terreaux
X-ORIGINAL-URL:https://www.templelanterne.fr
X-WR-CALDESC:Évènements pour Église Protestante Unie de Lyon-Terreaux
BEGIN:VEVENT
DTSTART;TZID=Europe/Paris:20241116T170000
DTEND;TZID=Europe/Paris:20241116T180000
DTSTAMP:20260423T162859
CREATED:20241111T162431Z
LAST-MODIFIED:20241111T162431Z
UID:17337-1731776400-1731780000@www.templelanterne.fr
SUMMARY:Concert de piano
DESCRIPTION:SAMEDI 16 NOVEMBRE À 17H AU TEMPLE LANTERNE : \nCONCERT D’ORGUE\, PAR ANGÉLIQUE TRAGIN & FLORÉAL DERVIN \nConsulter ici le programme et la biographie des artistes \n\nLes Concerts de la Lanterne sont organisés un samedi par moi au Temple Lanterne\, avec\, en alternance\, un concert d’orgue et un concert de piano. \nCes concerts sont donnés par des étudiantes et étudiants en Master des classes d’orgue et de piano du Conservatoire National Supérieur de Musique et de Danse de Lyon (CNSMD). \nIls sont organisés en partenariat avec le CNSMD de Lyon. \nEntrée libre\, collecte pour les frais. \nRetransmission sur grand écran des concerts d’orgue. \nPour en savoir plus : https://www.templelanterne.fr/les-concerts-au-temple-doctobre-a-decembre-2024/ 
URL:https://www.templelanterne.fr/event/concert-de-piano/
LOCATION:Temple Lanterne\, 10\, rue Lanterne\, Lyon\, 69001\, France
CATEGORIES:Concerts,Orgue,Paroisse
END:VEVENT
END:VCALENDAR