BEGIN:VCALENDAR
VERSION:2.0
PRODID:-//Église Protestante Unie de Lyon-Terreaux - ECPv4.9.2//NONSGML v1.0//EN
CALSCALE:GREGORIAN
METHOD:PUBLISH
X-WR-CALNAME:Église Protestante Unie de Lyon-Terreaux
X-ORIGINAL-URL:https://www.templelanterne.fr
X-WR-CALDESC:Évènements pour Église Protestante Unie de Lyon-Terreaux
BEGIN:VEVENT
DTSTART;TZID=Europe/Paris:20241005T200000
DTEND;TZID=Europe/Paris:20241005T200000
DTSTAMP:20260423T180551
CREATED:20241003T133255Z
LAST-MODIFIED:20241003T133255Z
UID:17270-1728158400-1728158400@www.templelanterne.fr
SUMMARY:Concerts
DESCRIPTION:Association Chopin de Lyon : Récital de piano 
URL:https://www.templelanterne.fr/event/concerts/2024-10-05/
LOCATION:Temple Lanterne\, 10\, rue Lanterne\, Lyon\, 69001\, France
CATEGORIES:Concerts,Événement culturel,Paroisse
ATTACH;FMTTYPE=image/jpeg:https://www.templelanterne.fr/wp-content/uploads/2024/10/piano-1846719_1280.jpg
END:VEVENT
END:VCALENDAR