BEGIN:VCALENDAR
VERSION:2.0
PRODID:-//Église Protestante Unie de Lyon-Terreaux - ECPv4.9.2//NONSGML v1.0//EN
CALSCALE:GREGORIAN
METHOD:PUBLISH
X-WR-CALNAME:Église Protestante Unie de Lyon-Terreaux
X-ORIGINAL-URL:https://www.templelanterne.fr
X-WR-CALDESC:Évènements pour Église Protestante Unie de Lyon-Terreaux
BEGIN:VEVENT
DTSTART;TZID=Europe/Paris:20230402T101500
DTEND;TZID=Europe/Paris:20230402T130000
DTSTAMP:20260422T084603
CREATED:20210114T202404Z
LAST-MODIFIED:20230319T172353Z
UID:16022-1680430500-1680440400@www.templelanterne.fr
SUMMARY:Culte des Rameaux - Rencontre œcuménique
DESCRIPTION:\n\nRencontre œcuménique à l’occasion du culte qui sera célébré au Temple des Terreaux\, 10 rue Lanterne\, LYON 1er\n\nLes prières\, les lectures bibliques et la prédication seront données sous forme de dialogue entre le père Christian Delorme et le Pasteur Christian Bouzy. Le projet de cette rencontre oecuménique est porté par les clubs des amis de RCF qui seront présents et nous inviteront à un temps d’échange autour d’un apéritif à l’issue du culte. Une rediffusion du culte est prévue le jour-même sur les ondes de RCF Lyon.\n\n\n\nDimanche des Rameaux avec l’Eglise protestante unie !\n\n\n\n\n\n\n\nChère Amie\, cher Ami de RCF Lyon\,Parce que l’œcuménisme est au cœur de l’identité de RCF\, nous avons la joie de vous proposer de vivre un temps spirituel fort avec l’Église protestante unie de France\, pour le dimanche des Rameaux. Le pasteur Christian Bouzy\, membre du CA de RCF Lyon\, a construit cette rencontre avec le Père Christian Delorme. Il s’agira d’un culte co-célébré\, vécu dans un esprit de dialogue œcuménique.\nCulte des Rameaux\nDimanche 2 avril à 10h30Temple des Terreaux\nCe culte sera suivi d’un temps de rencontre et d’échanges informels avec la communauté des Terreaux autour d’un verre de l’amitié\, organisé par le Club RCF. Venez en famille\, nous vous attendons nombreux !La commission SPI du Club\, Claire\, Marie-Hélène et Olivier\n\n\n\n\n\n\n\n\nAgenda de la rencontre :\n\n10h15 – Accueil\n10h30 – Célébration des Rameaux\n12h00 – Verre de la rencontre\n12h45 – Fin\n\nJe m’inscris le 2 Avril
URL:https://www.templelanterne.fr/event/culte-rue-lanterne-2-2021-10-03-2022-06-19-2-2023-04-02/
LOCATION:Temple Lanterne\, 10\, rue Lanterne\, Lyon\, 69001\, France
CATEGORIES:À la une,Culte,Paroisse
ATTACH;FMTTYPE=image/jpeg:https://www.templelanterne.fr/wp-content/uploads/2021/01/visuel-rameaux-lanterne2.jpg
END:VEVENT
END:VCALENDAR