BEGIN:VCALENDAR
VERSION:2.0
PRODID:-//Église Protestante Unie de Lyon-Terreaux - ECPv4.9.2//NONSGML v1.0//EN
CALSCALE:GREGORIAN
METHOD:PUBLISH
X-WR-CALNAME:Église Protestante Unie de Lyon-Terreaux
X-ORIGINAL-URL:https://www.templelanterne.fr
X-WR-CALDESC:Évènements pour Église Protestante Unie de Lyon-Terreaux
BEGIN:VEVENT
DTSTART;VALUE=DATE:20230303
DTEND;VALUE=DATE:20230304
DTSTAMP:20260422T101611
CREATED:20221218T142946Z
LAST-MODIFIED:20240112T191338Z
UID:16332-1677801600-1677887999@www.templelanterne.fr
SUMMARY:Journée mondiale de prière
DESCRIPTION:
URL:https://www.templelanterne.fr/event/journee-mondiale-de-priere/2023-03-03/
CATEGORIES:Célébration œcuménique,Culte,Événements paroissiaux exceptionnels,Paroisse,Semaine pour l'unité
ATTACH;FMTTYPE=image/jpeg:https://www.templelanterne.fr/wp-content/uploads/2022/07/wild-bird-g377f3cdb3_1920-e1747306391125.jpg
END:VEVENT
END:VCALENDAR