BEGIN:VCALENDAR
VERSION:2.0
PRODID:-//Église Protestante Unie de Lyon-Terreaux - ECPv4.9.2//NONSGML v1.0//EN
CALSCALE:GREGORIAN
METHOD:PUBLISH
X-WR-CALNAME:Église Protestante Unie de Lyon-Terreaux
X-ORIGINAL-URL:https://www.templelanterne.fr
X-WR-CALDESC:Évènements pour Église Protestante Unie de Lyon-Terreaux
BEGIN:VEVENT
DTSTART;TZID=Europe/Paris:20230223T193000
DTEND;TZID=Europe/Paris:20230223T213000
DTSTAMP:20260422T120133
CREATED:20221218T142722Z
LAST-MODIFIED:20221218T142742Z
UID:16330-1677180600-1677187800@www.templelanterne.fr
SUMMARY:Répétition Passion selon Saint Jean de Bach
DESCRIPTION:
URL:https://www.templelanterne.fr/event/repetition-passion-selon-saint-jean-de-bach/
LOCATION:Temple Lanterne\, 10\, rue Lanterne\, Lyon\, 69001\, France
CATEGORIES:Chantons les cantiques !,Concerts,Événement culturel,Orgue,Paroisse
ATTACH;FMTTYPE=image/jpeg:https://www.templelanterne.fr/wp-content/uploads/2022/05/DSCF1187.jpg
END:VEVENT
END:VCALENDAR