BEGIN:VCALENDAR
VERSION:2.0
PRODID:-//Église Protestante Unie de Lyon-Terreaux - ECPv4.9.2//NONSGML v1.0//EN
CALSCALE:GREGORIAN
METHOD:PUBLISH
X-WR-CALNAME:Église Protestante Unie de Lyon-Terreaux
X-ORIGINAL-URL:https://www.templelanterne.fr
X-WR-CALDESC:Évènements pour Église Protestante Unie de Lyon-Terreaux
BEGIN:VEVENT
DTSTART;TZID=Europe/Paris:20230205T103000
DTEND;TZID=Europe/Paris:20230205T120000
DTSTAMP:20260422T120025
CREATED:20210114T202404Z
LAST-MODIFIED:20221218T143915Z
UID:16018-1675593000-1675598400@www.templelanterne.fr
SUMMARY:Culte avec la paroisse du Change
DESCRIPTION:\n\nCulte dominical\, rue Lanterne. Bienvenue ! \nLe Culte a lieu tous les dimanches à 10h30\, au Temple de la rue Lanterne (avec mise en place d’un service de garderie : c’est l’occasion d’accueillir la jeunesse de notre Église). Culte avec Sainte Cène les 1er et 3e dimanches du mois. \nÀ Caluire et Cuire\, au centre paroissial\, un Culte est également organisé les 1er et 3ème lundi de chaque mois à 12h15 ; il est suivi d’un repas partagé. \nPour plus d’informations : http://www.templelanterne.fr/le-culte/ \n\n
URL:https://www.templelanterne.fr/event/culte-rue-lanterne-2-2021-10-03-2022-06-19-2-2023-02-05/
LOCATION:Temple Lanterne\, 10\, rue Lanterne\, Lyon\, 69001\, France
CATEGORIES:Culte,Paroisse
ATTACH;FMTTYPE=image/jpeg:https://www.templelanterne.fr/wp-content/uploads/2022/04/20220410_114922-scaled.jpg
END:VEVENT
END:VCALENDAR