BEGIN:VCALENDAR
VERSION:2.0
PRODID:-//Église Protestante Unie de Lyon-Terreaux - ECPv4.9.2//NONSGML v1.0//EN
CALSCALE:GREGORIAN
METHOD:PUBLISH
X-WR-CALNAME:Église Protestante Unie de Lyon-Terreaux
X-ORIGINAL-URL:https://www.templelanterne.fr
X-WR-CALDESC:Évènements pour Église Protestante Unie de Lyon-Terreaux
BEGIN:VEVENT
DTSTART;TZID=Europe/Paris:20221224T190000
DTEND;TZID=Europe/Paris:20221224T203000
DTSTAMP:20260422T151052
CREATED:20221217T174744Z
LAST-MODIFIED:20221217T174744Z
UID:16142-1671908400-1671913800@www.templelanterne.fr
SUMMARY:Veillée de Noël
DESCRIPTION:Veillée de Noël\, samedi 24 décembre à 19h au temple des Terreaux\, avec récit méditatif\, buisson de lumières\, chants de Noël et prières. 
URL:https://www.templelanterne.fr/event/veillee-de-noel/
LOCATION:Temple Lanterne\, 10\, rue Lanterne\, Lyon\, 69001\, France
CATEGORIES:Culte,Noël 2022,Paroisse,Vie paroissiale
ATTACH;FMTTYPE=image/jpeg:https://www.templelanterne.fr/wp-content/uploads/2021/03/tea-lights-3612508_1920.jpg
END:VEVENT
END:VCALENDAR