BEGIN:VCALENDAR
VERSION:2.0
PRODID:-//Église Protestante Unie de Lyon-Terreaux - ECPv4.9.2//NONSGML v1.0//EN
CALSCALE:GREGORIAN
METHOD:PUBLISH
X-WR-CALNAME:Église Protestante Unie de Lyon-Terreaux
X-ORIGINAL-URL:https://www.templelanterne.fr
X-WR-CALDESC:Évènements pour Église Protestante Unie de Lyon-Terreaux
BEGIN:VEVENT
DTSTART;TZID=Europe/Paris:20220918T103000
DTEND;TZID=Europe/Paris:20220918T120000
DTSTAMP:20260422T195325
CREATED:20210114T202404Z
LAST-MODIFIED:20220904T052215Z
UID:16009-1663497000-1663502400@www.templelanterne.fr
SUMMARY:Culte avec Cène\, rue Lanterne
DESCRIPTION:\n\nCulte dominical\, rue Lanterne. Bienvenue ! \nLe Culte a lieu tous les dimanches à 10h30\, au Temple de la rue Lanterne (avec mise en place d’un service de garderie : c’est l’occasion d’accueillir la jeunesse de notre Église). Culte avec Sainte Cène les 1er et 3e dimanches du mois. \nÀ Caluire et Cuire\, au centre paroissial\, un Culte est également organisé les 1er et 3ème lundi de chaque mois à 12h15 ; il est suivi d’un repas partagé. \nPour plus d’informations : http://www.templelanterne.fr/le-culte/ \n\n
URL:https://www.templelanterne.fr/event/culte-rue-lanterne-2-2021-10-03-2022-06-19-2-2022-09-18/2022-09-18/
LOCATION:Temple Lanterne\, 10\, rue Lanterne\, Lyon\, 69001\, France
CATEGORIES:Culte,Paroisse
ATTACH;FMTTYPE=image/jpeg:https://www.templelanterne.fr/wp-content/uploads/2022/04/20220410_114922-scaled.jpg
END:VEVENT
BEGIN:VEVENT
DTSTART;TZID=Europe/Paris:20220918T173000
DTEND;TZID=Europe/Paris:20220918T190000
DTSTAMP:20260422T195325
CREATED:20220830T132439Z
LAST-MODIFIED:20220830T133510Z
UID:15994-1663522200-1663527600@www.templelanterne.fr
SUMMARY:Récital d'orgue\, par Thomas Kientz
DESCRIPTION:Dans le cadre de notre traditionnel concert d’orgue des Journées du Patrimoine\, nous aurons le grand plaisir d’accueillir cette année Thomas Kientz\, concertiste international\, improvisateur et organiste titulaire des orgues de l’Abbaye de Saint-Maurice (Suisse). Il interprétera des œuvres de C. Franck\, J. Brahms\, O. Messiaen\, G. Pierné\, et improvisera sur un thème donné. Entrée libre\, libre participation. Retransmission sur grand écran. \n \n\nNé en 1991\, Thomas Kientz est lauréat de plusieurs concours internationaux : le concours Olivier Messiaen (Lyon\, 2019)\, le 8e concours d’orgue de Saint-Maurice (Suisse\, 2015)\, le « Grand Prix Florentz » de l’Académie des Beaux-Arts (Angers\, 2016)\, le concours André Marchal/Gaston Litaize (2017)\, le concours Schnitger d’Alkmaar (Pays-Bas\, 2017). Dès lors\, il mène une carrière internationale de concertiste et improvisateur à l’orgue. Il est l’invité de prestigieux festivals en France\, Allemagne\, Suisse\, Italie\, Belgique\, Luxembourg\, Espagne\, Russie\, Royaume-Uni\, ainsi qu’aux États-Unis où il fut « artist in residence » à la cathédrale de La Nouvelle-Orléans (Louisiane). \nThomas Kientz a étudié au Conservatoire National Supérieur de Musique et de Danse de Paris auprès d’Olivier Latry\, Michel Bouvard\, Thierry Escaich\, Philippe Lefebvre\, Yves Henry\, Pierre Pincemaille\, Laszlo Fassang\, Isabelle Duha\, Alain Mabit. Il est titulaire d’un Master d’interprétation à l’orgue\, d’un Master d’improvisation\, et des Prix d’harmonie\, de contrepoint\, d’écriture xxe-xxie et de fugue. Par ailleurs\, il rencontre à Bruxelles le compositeur belge Benoît Mernier et\, dans le cadre de l’Institut Supérieur de musique de Namur (Belgique)\, obtient un Master spécialisé en interprétation à l’orgue. \nSur le plan discographique\, Thomas Kientz compte plusieurs enregistrements labellisés\, dont son intégrale des chorals pour orgue d’Homilius\, éditée chez Hortus. Elle est saluée par la critique\, obtient 5 diapasons et 5 étoiles dans Classica. « Cet attachant répertoire bénéficie enfin de sa version de référence » (X.Bisaro\, Diapason\, n°667). \nPassionné par la création sous toutes ses formes et par le timbre\, Thomas Kientz est également compositeur. Son œuvre\, Dominus Illuminatio mea pour grand-orgue\, est lauréate du concours de composition de Saint-Sulpice à Paris. Il obtient également un 3e prix du concours de la Société suisse de musique contemporaine (ISCM) avec son œuvre pour chœur O Virgo Splendens. \nThomas Kientz est actuellement organiste titulaire des orgues de l’Abbaye de Saint-Maurice (canton de Valais\, Suisse) et enseigne l’improvisation à l’orgue à la Haute École de Musique (HEMU) à Lausanne. \nCliquez ici pour lire la biographie complète de l’organiste. \nPour en savoir plus sur l’orgue Joseph Merklin du Temple Lanterne :\nhttp://www.templelanterne.fr/les-amis-de-lorgue/ \n  
URL:https://www.templelanterne.fr/event/recital-dorgue-par-thomas-kientz/
LOCATION:Temple Lanterne\, 10\, rue Lanterne\, Lyon\, 69001\, France
CATEGORIES:À la une,Concerts,Concerts d'orgue,Orgue,Paroisse
ATTACH;FMTTYPE=image/jpeg:https://www.templelanterne.fr/wp-content/uploads/2022/08/orgue-affiche-Thomas.jpg
END:VEVENT
END:VCALENDAR