BEGIN:VCALENDAR
VERSION:2.0
PRODID:-//Église Protestante Unie de Lyon-Terreaux - ECPv4.9.2//NONSGML v1.0//EN
CALSCALE:GREGORIAN
METHOD:PUBLISH
X-WR-CALNAME:Église Protestante Unie de Lyon-Terreaux
X-ORIGINAL-URL:https://www.templelanterne.fr
X-WR-CALDESC:Évènements pour Église Protestante Unie de Lyon-Terreaux
BEGIN:VEVENT
DTSTART;TZID=Europe/Paris:20220911T103000
DTEND;TZID=Europe/Paris:20220911T150000
DTSTAMP:20260422T195325
CREATED:20210114T202404Z
LAST-MODIFIED:20220904T054733Z
UID:16028-1662892200-1662908400@www.templelanterne.fr
SUMMARY:Culte et journée paroissiale\, rue Lanterne
DESCRIPTION:\n\nBienvenue ! \nJOURNÉE DE RENTRÉE\, dimanche 11 septembre\, pour petits et grands \nà 10h30 au temple\, 10 rue Lanterne\, 69001 Lyon : \nCulte\, Éveil à la foi\, École biblique et Catéchisme… \nPuis repas partagé à midi\nles modalités du repas vous seront précisé dans le prochain mail collectif. \n\n
URL:https://www.templelanterne.fr/event/culte-rue-lanterne-2-2021-10-03-2021-10-10-2022-06-12-2/
LOCATION:Temple Lanterne\, 10\, rue Lanterne\, Lyon\, 69001\, France
CATEGORIES:Culte,Paroisse
ATTACH;FMTTYPE=image/jpeg:https://www.templelanterne.fr/wp-content/uploads/2019/09/ob_0b93df_adobestock-142056098-converti.jpg
END:VEVENT
END:VCALENDAR