BEGIN:VCALENDAR
VERSION:2.0
PRODID:-//Église Protestante Unie de Lyon-Terreaux - ECPv4.9.2//NONSGML v1.0//EN
CALSCALE:GREGORIAN
METHOD:PUBLISH
X-WR-CALNAME:Église Protestante Unie de Lyon-Terreaux
X-ORIGINAL-URL:https://www.templelanterne.fr
X-WR-CALDESC:Évènements pour Église Protestante Unie de Lyon-Terreaux
BEGIN:VEVENT
DTSTART;TZID=Europe/Paris:20220626T103000
DTEND;TZID=Europe/Paris:20220626T160000
DTSTAMP:20260422T164236
CREATED:20210114T202404Z
LAST-MODIFIED:20220613T125342Z
UID:15530-1656239400-1656259200@www.templelanterne.fr
SUMMARY:Culte & fête de paroisse (Caluire)
DESCRIPTION:Culte et fête de paroisse\, à Caluire. \nInscription nécessaire pour la paella. \nToutes les infos sont ici : http://www.templelanterne.fr/invitation-a-la-fete-paroissiale-du-dimanche-26-juin/ 
URL:https://www.templelanterne.fr/event/culte-rue-lanterne-2-2021-10-03-2021-10-10-2022-06-26/
LOCATION:Salle paroissiale de Caluire\, 6 rue Albert Thomas\, Caluire-et-Cuire\, 69300\, France
CATEGORIES:Culte,Événements paroissiaux exceptionnels,Paroisse,Repas de Caluire,Vie paroissiale
ATTACH;FMTTYPE=image/jpeg:https://www.templelanterne.fr/wp-content/uploads/2018/10/IMGP0248.jpg
END:VEVENT
END:VCALENDAR