BEGIN:VCALENDAR
VERSION:2.0
PRODID:-//Église Protestante Unie de Lyon-Terreaux - ECPv4.9.2//NONSGML v1.0//EN
CALSCALE:GREGORIAN
METHOD:PUBLISH
X-WR-CALNAME:Église Protestante Unie de Lyon-Terreaux
X-ORIGINAL-URL:https://www.templelanterne.fr
X-WR-CALDESC:Évènements pour Église Protestante Unie de Lyon-Terreaux
BEGIN:VEVENT
DTSTART;TZID=Europe/Paris:20220414T190000
DTEND;TZID=Europe/Paris:20220414T200000
DTSTAMP:20260422T132623
CREATED:20220412T105214Z
LAST-MODIFIED:20220412T105214Z
UID:15858-1649962800-1649966400@www.templelanterne.fr
SUMMARY:Célébration du Jeudi saint
DESCRIPTION:Célébration du jeudi saint\, en l’église luthérienne\, 12 rue Fénelon\, Lyon 6e. 
URL:https://www.templelanterne.fr/event/celebration-du-jeudi-saint/
LOCATION:Église luthérienne de Lyon\, 12 Rue Fénelon\, Lyon\, 69006\, France
GEO:45.7641267;4.8439316
X-APPLE-STRUCTURED-LOCATION;VALUE=URI;X-ADDRESS=Église luthérienne de Lyon 12 Rue Fénelon Lyon 69006 France;X-APPLE-RADIUS=500;X-TITLE=12 Rue Fénelon:geo:4.8439316,45.7641267
CATEGORIES:Culte,Paroisse,Vie paroissiale
ATTACH;FMTTYPE=image/jpeg:https://www.templelanterne.fr/wp-content/uploads/2022/04/bread-3935952_1920.jpg
END:VEVENT
END:VCALENDAR