BEGIN:VCALENDAR
VERSION:2.0
PRODID:-//Église Protestante Unie de Lyon-Terreaux - ECPv4.9.2//NONSGML v1.0//EN
CALSCALE:GREGORIAN
METHOD:PUBLISH
X-WR-CALNAME:Église Protestante Unie de Lyon-Terreaux
X-ORIGINAL-URL:https://www.templelanterne.fr
X-WR-CALDESC:Évènements pour Église Protestante Unie de Lyon-Terreaux
BEGIN:VEVENT
DTSTART;TZID=Europe/Paris:20220319T153000
DTEND;TZID=Europe/Paris:20220319T200000
DTSTAMP:20260422T120214
CREATED:20220228T211340Z
LAST-MODIFIED:20220228T211414Z
UID:15821-1647703800-1647720000@www.templelanterne.fr
SUMMARY:La Laïcité : une espace pour construire ensemble
DESCRIPTION:Samedi 19 mars 2022\, de 15h à 20h\, à l’Espace Bancel\, Lyon 6e.\n« La laïcité\, un espace à construire ensemble »\n
URL:https://www.templelanterne.fr/event/la-laicite-une-espace-pour-construire-ensemble/
LOCATION:Espace Bancel\, 50\, rue Bancel\, Lyon\, 69007\, France
CATEGORIES:Conférences,Paroisse
ATTACH;FMTTYPE=image/jpeg:https://www.templelanterne.fr/wp-content/uploads/2022/02/laicite-annonceWeb-scaled.jpg
END:VEVENT
END:VCALENDAR