BEGIN:VCALENDAR
VERSION:2.0
PRODID:-//Église Protestante Unie de Lyon-Terreaux - ECPv4.9.2//NONSGML v1.0//EN
CALSCALE:GREGORIAN
METHOD:PUBLISH
X-WR-CALNAME:Église Protestante Unie de Lyon-Terreaux
X-ORIGINAL-URL:https://www.templelanterne.fr
X-WR-CALDESC:Évènements pour Église Protestante Unie de Lyon-Terreaux
BEGIN:VEVENT
DTSTART;TZID=Europe/Paris:20200202T103000
DTEND;TZID=Europe/Paris:20200202T120000
DTSTAMP:20260422T163940
CREATED:20180607T174433Z
LAST-MODIFIED:20200128T213255Z
UID:11012-1580639400-1580644800@www.templelanterne.fr
SUMMARY:Culte autrement (Defap)
DESCRIPTION:à 10h30 : Culte autrement avec la participation de la pasteure Florence Taubmann du service national du DEFAP. Le ‘Défap’ est un organisme aux services des Églises protestantes historiques pour une collaboration avec les Églises issues des missions des 19e et 20e siècle. C’est une plateforme de collaboration pour les Églises du Nord et du Sud. 
URL:https://www.templelanterne.fr/event/culte-2-3-2020-02-02/
LOCATION:Temple Lanterne\, 10\, rue Lanterne\, Lyon\, 69001\, France
CATEGORIES:À la une,Culte,Paroisse
ATTACH;FMTTYPE=image/jpeg:https://www.templelanterne.fr/wp-content/uploads/2018/06/DEFAP.jpg
END:VEVENT
END:VCALENDAR