BEGIN:VCALENDAR
VERSION:2.0
PRODID:-//Église Protestante Unie de Lyon-Terreaux - ECPv4.9.2//NONSGML v1.0//EN
CALSCALE:GREGORIAN
METHOD:PUBLISH
X-WR-CALNAME:Église Protestante Unie de Lyon-Terreaux
X-ORIGINAL-URL:https://www.templelanterne.fr
X-WR-CALDESC:Évènements pour Église Protestante Unie de Lyon-Terreaux
BEGIN:VEVENT
DTSTART;TZID=Europe/Paris:20200125T163000
DTEND;TZID=Europe/Paris:20200125T180000
DTSTAMP:20260422T181643
CREATED:20200124T203036Z
LAST-MODIFIED:20200124T203036Z
UID:13712-1579969800-1579975200@www.templelanterne.fr
SUMMARY:Concert (chorale)
DESCRIPTION: 
URL:https://www.templelanterne.fr/event/concert-chorale/
LOCATION:Temple Lanterne\, 10\, rue Lanterne\, Lyon\, 69001\, France
CATEGORIES:Concerts
END:VEVENT
END:VCALENDAR