BEGIN:VCALENDAR
VERSION:2.0
PRODID:-//Église Protestante Unie de Lyon-Terreaux - ECPv4.9.2//NONSGML v1.0//EN
CALSCALE:GREGORIAN
METHOD:PUBLISH
X-WR-CALNAME:Église Protestante Unie de Lyon-Terreaux
X-ORIGINAL-URL:https://www.templelanterne.fr
X-WR-CALDESC:Évènements pour Église Protestante Unie de Lyon-Terreaux
BEGIN:VEVENT
DTSTART;TZID=Europe/Paris:20200119T103000
DTEND;TZID=Europe/Paris:20200119T120000
DTSTAMP:20260422T182222
CREATED:20180607T174433Z
LAST-MODIFIED:20200122T184917Z
UID:11011-1579429800-1579435200@www.templelanterne.fr
SUMMARY:Culte (semaine pour l'unité)
DESCRIPTION:Semaine de prière pour l’unité des chrétiens. \nCulte avec la participation pour la prédication du Père Christian Delorme de la paroisse Saint Romain de Caluire \nPour plus d’informations : http://www.templelanterne.fr/le-culte/ 
URL:https://www.templelanterne.fr/event/culte-2-3-2020-01-19/
LOCATION:Temple Lanterne\, 10\, rue Lanterne\, Lyon\, 69001\, France
CATEGORIES:À la une,Célébration œcuménique,Culte,Paroisse,Semaine pour l'unité
ATTACH;FMTTYPE=image/jpeg:https://www.templelanterne.fr/wp-content/uploads/2018/06/d4a3656f36bc244467e060b662034f-copie.jpg
END:VEVENT
END:VCALENDAR