BEGIN:VCALENDAR
VERSION:2.0
PRODID:-//Église Protestante Unie de Lyon-Terreaux - ECPv4.9.2//NONSGML v1.0//EN
CALSCALE:GREGORIAN
METHOD:PUBLISH
X-WR-CALNAME:Église Protestante Unie de Lyon-Terreaux
X-ORIGINAL-URL:https://www.templelanterne.fr
X-WR-CALDESC:Évènements pour Église Protestante Unie de Lyon-Terreaux
BEGIN:VEVENT
DTSTART;TZID=Europe/Paris:20191215T103000
DTEND;TZID=Europe/Paris:20191215T140000
DTSTAMP:20260422T195459
CREATED:20180607T174433Z
LAST-MODIFIED:20191210T104408Z
UID:11009-1576405800-1576418400@www.templelanterne.fr
SUMMARY:Culte & fête paroissiale
DESCRIPTION:Culte dominical\, rue Lanterne. Bienvenue ! \nNous avons le plaisir de vous rappeler le programme de notre fête de paroisse du  15 décembre rue Lanterne. Nous espérons que vous serez nombreux à saisir cette occasion consolider nos liens de fraternité.\n\n\n10h30 : Culte au temple avec la participation  des groupes de catéchisme de   notre paroisse. L’histoire de Noel racontée par les enfants et les ados\n11h 45 : Verre de l’amitié\n12h15 : Repas choucroute\, préparé sur place et  desserts maisons apportés par les participants au repas.\n\nPour participer au repas et pour sa bonne organisation\, nous vous demandons de bien vouloir vous inscrire. Pour cela 3 modes d ‘inscriptions possibles avant le 10 décembre : \n\n1) Vous pouvez vous inscrire par email à l’adresse suivante: secretariat@nulltemplelanterne.fr\n2) Vous pouvez vous inscrire par téléphone au : 04-78-30-58-92\n3) Vous pouvez inscrire votre nom sur la feuille prévue a cet effet dans l’entrée du temple .\n\nÀ bientôt ! 
URL:https://www.templelanterne.fr/event/culte-2-3-2019-12-15/
LOCATION:Temple Lanterne\, 10\, rue Lanterne\, Lyon\, 69001\, France
CATEGORIES:À la une,Culte,Paroisse
ATTACH;FMTTYPE=image/jpeg:https://www.templelanterne.fr/wp-content/uploads/2018/06/christmas-ornament-4676588_1920.jpg
END:VEVENT
END:VCALENDAR