BEGIN:VCALENDAR
VERSION:2.0
PRODID:-//Église Protestante Unie de Lyon-Terreaux - ECPv4.9.2//NONSGML v1.0//EN
CALSCALE:GREGORIAN
METHOD:PUBLISH
X-WR-CALNAME:Église Protestante Unie de Lyon-Terreaux
X-ORIGINAL-URL:https://www.templelanterne.fr
X-WR-CALDESC:Évènements pour Église Protestante Unie de Lyon-Terreaux
BEGIN:VEVENT
DTSTART;TZID=Europe/Paris:20191212T190000
DTEND;TZID=Europe/Paris:20191212T220000
DTSTAMP:20260422T195040
CREATED:20191121T200722Z
LAST-MODIFIED:20191206T154413Z
UID:13245-1576177200-1576188000@www.templelanterne.fr
SUMMARY:Veillée de l'Avent
DESCRIPTION:4 Veillées de l’Avent 2019\, à 19h dans une maison amie.\n3ème Veillée de l’Avent\, Jeudi 12 décembre  \n« Comme Jésus nous l’a enseigné » ou mieux comprendre le « Notre Père ». Chez Gérard et Isabelle Graff\, 8 place Saint Vincent Lyon 1er tel : 06-19-22-85-85 \n\nMode d’emploi des Veillées de l’Avent\n\nChaque veillée a un thème qui est présenté de 19h à 20h30.\nEnsuite\, la soirée se poursuit par une agape fraternelle\, organisée par les accueillants avec le concours des participants qui peuvent apporter quelques nourritures à partager. Il s’agit d’un repas simple pour prolonger l’échange et cultiver l’amitié.\nOn peut participer à toutes les veillées qui ont des programmes différents.\nFin de soirée vers 22h.\nUn impératif : s’inscrire par téléphone auprès de l’accueillant au plus tard 24h avant la rencontre. Demander aussi à l’accueillant le code d’entrée de son immeuble. Les veillées sont ouvertes à tous dans la limite des places disponibles (entre 20 et 25 personnes selon les appartements)\n\n\nProchaines veillées :\n4e Veillée de l’Avent\, mercredi 18 décembre : Après « oser dire sa foi »\, nous  risquerons des mots pour parler du regard que nous portons sur le monde… regards inquiets ou regard confiants… c’est vous qui le direz ! Chez Anita et Jean Liaras\, 34 chemin de Vassieux à Caluire ; Tel : 04 78 08 27 22 ; 06 80 15 18 18 
URL:https://www.templelanterne.fr/event/veillee-de-lavent-2-2/
CATEGORIES:À la une,Paroisse,Veillées de l'Avent,Vie paroissiale
ATTACH;FMTTYPE=image/jpeg:https://www.templelanterne.fr/wp-content/uploads/2019/11/christmas-1841631_1920-1.jpg
END:VEVENT
END:VCALENDAR