BEGIN:VCALENDAR
VERSION:2.0
PRODID:-//Église Protestante Unie de Lyon-Terreaux - ECPv4.9.2//NONSGML v1.0//EN
CALSCALE:GREGORIAN
METHOD:PUBLISH
X-WR-CALNAME:Église Protestante Unie de Lyon-Terreaux
X-ORIGINAL-URL:https://www.templelanterne.fr
X-WR-CALDESC:Évènements pour Église Protestante Unie de Lyon-Terreaux
BEGIN:VEVENT
DTSTART;TZID=Europe/Paris:20191013T103000
DTEND;TZID=Europe/Paris:20191013T120000
DTSTAMP:20260422T233137
CREATED:20190115T091835Z
LAST-MODIFIED:20190914T164139Z
UID:11217-1570962600-1570968000@www.templelanterne.fr
SUMMARY:Culte avec Emmanuelle Seyboldt
DESCRIPTION:\nCulte dominical\, rue Lanterne. Bienvenue ! \nÀ l’occasion de la sortie du livre collectif « Oser dire sa foi »\, rédigé par 34 témoins de la Paroisse de Lyon-Terreaux et publié aux Éditions Olivétan\, nous sommes heureux de vous inviter au « culte-événement » du dimanche 13 octobre 2019 à 10 h 30 au Temple des Terreaux : \n\nLa prédication sera donnée par Emmanuelle Seyboldt\, Présidente du Conseil national de l’Église Protestante Unie de France. \n(Verre de l’amitié à l’issue du culte) \nGroupes Éveil à la foi\, école biblique et catéchisme. 
URL:https://www.templelanterne.fr/event/culte-3-2019-10-13/
LOCATION:Temple Lanterne\, 10\, rue Lanterne\, Lyon\, 69001\, France
CATEGORIES:Caté et école biblique,Culte,Événements paroissiaux exceptionnels,Paroisse,Vie paroissiale
ATTACH;FMTTYPE=image/jpeg:https://www.templelanterne.fr/wp-content/uploads/2019/01/oser-dire-sa-foi.jpg
END:VEVENT
END:VCALENDAR