BEGIN:VCALENDAR
VERSION:2.0
PRODID:-//Église Protestante Unie de Lyon-Terreaux - ECPv4.9.2//NONSGML v1.0//EN
CALSCALE:GREGORIAN
METHOD:PUBLISH
X-WR-CALNAME:Église Protestante Unie de Lyon-Terreaux
X-ORIGINAL-URL:https://www.templelanterne.fr
X-WR-CALDESC:Évènements pour Église Protestante Unie de Lyon-Terreaux
BEGIN:VEVENT
DTSTART;TZID=Europe/Paris:20190620T180000
DTEND;TZID=Europe/Paris:20190620T220000
DTSTAMP:20260423T052503
CREATED:20190115T104607Z
LAST-MODIFIED:20190612T145641Z
UID:12936-1561053600-1561068000@www.templelanterne.fr
SUMMARY:Réflexion théologique
DESCRIPTION:Un jeudi par mois\, à 20h. \nPlus d’informations : http://www.templelanterne.fr/reflexion-theologique/ 
URL:https://www.templelanterne.fr/event/reflexion-theologique-2019-06-20/
CATEGORIES:Paroisse,Réflexion théologique
ATTACH;FMTTYPE=image/jpeg:https://www.templelanterne.fr/wp-content/uploads/2018/10/tree-3170003-1.jpg
END:VEVENT
END:VCALENDAR