BEGIN:VCALENDAR
VERSION:2.0
PRODID:-//Église Protestante Unie de Lyon-Terreaux - ECPv4.9.2//NONSGML v1.0//EN
CALSCALE:GREGORIAN
METHOD:PUBLISH
X-WR-CALNAME:Église Protestante Unie de Lyon-Terreaux
X-ORIGINAL-URL:https://www.templelanterne.fr
X-WR-CALDESC:Évènements pour Église Protestante Unie de Lyon-Terreaux
BEGIN:VEVENT
DTSTART;TZID=Europe/Paris:20190615T200000
DTEND;TZID=Europe/Paris:20190615T220000
DTSTAMP:20260423T060204
CREATED:20190606T205835Z
LAST-MODIFIED:20190606T205835Z
UID:12840-1560628800-1560636000@www.templelanterne.fr
SUMMARY:Concert de Sa’Voie Gospel
DESCRIPTION:Nous sommes une chorale Gospel : « Sa’Voie Gospel » de 128 choristes basée sur St Julien en Genevois (74) et gérée par une association Racines A’Venir loi 1901. \nNous allons fêter nos 5 ans d’existence par une journée sur Lyon incluant : \n– un flashmob au musée des Confluences de Lyon à 15h00 \n– un concert sur Lyon le 15 Juin 2019\, à l’église Saint Antoine\, 302 avenue Jean Jaures\, 69007  Lyon avec 2 invités : Flora Sicot et un groupe de gospel Lyonnais Crewks \n\nHoraires : 20h00-21h45\nOuverture des caisses : 19h00\nTarifs :\n\nPréventes sur billetterie en ligne : https://www.weezevent.com/sa-voie-gospel-en-concert\nTarif plein : 12 € Tarif réduit : 8 € (Chômage\, Retraités\, Etudiants) Gratuit pour les moins de 10 ans\nSur place : Tarif plein 15 € Tarif réduit : 10 € (Chômage\, Retraités\, Etudiants) Gratuit pour les moins de 10 ans.\n\n\n\nPrésentation :\nSa’Voie Gospel fête ses 5 ans avec vous en vous faisant vivre un concert d’exception ! \nAccompagné d’un groupe de gospel Lyonnais : « Crewks »\, et d’une invitée de renom : Flora Sicot\,  Sa’Voie Gospel vous invite à écouter\, chanter et vivre le Gospel de l’Afrique aux Etats-Unis en passant par les Caraïbes. \nDe la joie\, du pétillant\, du peps\, de l’espoir\, voici ce que nous souhaitons partager avec vous. \nVous êtes les bienvenus pour ce beau moment d’échange\, cet envol d’énergie et de générosité qui caractérise Sa’Voie Gospel. \nSite de la chorale et page Facebook :\n\nSa’Voie Gospel\nhttps://www.facebook.com/SaVoie-Gospel-274268016030875/?ref=bookmarks\n
URL:https://www.templelanterne.fr/event/concert-de-savoie-gospel/
LOCATION:Église Saint Antoine\, 302 avenue Jean Jaures\, Lyon\, 69007\, France
GEO:45.7288865;4.8315966
X-APPLE-STRUCTURED-LOCATION;VALUE=URI;X-ADDRESS=Église Saint Antoine 302 avenue Jean Jaures Lyon 69007 France;X-APPLE-RADIUS=500;X-TITLE=302 avenue Jean Jaures:geo:4.8315966,45.7288865
CATEGORIES:Concerts,Partenaires
ATTACH;FMTTYPE=image/jpeg:https://www.templelanterne.fr/wp-content/uploads/2019/06/38084137185_2cc5186f8a_k-1.jpg
END:VEVENT
END:VCALENDAR