BEGIN:VCALENDAR
VERSION:2.0
PRODID:-//Église Protestante Unie de Lyon-Terreaux - ECPv4.9.2//NONSGML v1.0//EN
CALSCALE:GREGORIAN
METHOD:PUBLISH
X-WR-CALNAME:Église Protestante Unie de Lyon-Terreaux
X-ORIGINAL-URL:https://www.templelanterne.fr
X-WR-CALDESC:Évènements pour Église Protestante Unie de Lyon-Terreaux
BEGIN:VEVENT
DTSTART;TZID=Europe/Paris:20190326T203000
DTEND;TZID=Europe/Paris:20190326T220000
DTSTAMP:20260423T102934
CREATED:20190311T144359Z
LAST-MODIFIED:20190311T144359Z
UID:12172-1553632200-1553637600@www.templelanterne.fr
SUMMARY:Salam Paix Shalom
DESCRIPTION:Groupe interreligieux de Rillieux-la-Pape. Renseignements : 06.43.38.48.76. 
URL:https://www.templelanterne.fr/event/salam-paix-shalom/
LOCATION:Rillieux-La-Pape\, Rillieux-La-Pape\, France
GEO:45.819655;4.897126
CATEGORIES:Partenaires,Salam Paix Shalom
ATTACH;FMTTYPE=image/jpeg:https://www.templelanterne.fr/wp-content/uploads/2018/10/hands-1926414-1.jpg
END:VEVENT
END:VCALENDAR