BEGIN:VCALENDAR
VERSION:2.0
PRODID:-//Église Protestante Unie de Lyon-Terreaux - ECPv4.9.2//NONSGML v1.0//EN
CALSCALE:GREGORIAN
METHOD:PUBLISH
X-WR-CALNAME:Église Protestante Unie de Lyon-Terreaux
X-ORIGINAL-URL:https://www.templelanterne.fr
X-WR-CALDESC:Évènements pour Église Protestante Unie de Lyon-Terreaux
BEGIN:VEVENT
DTSTART;TZID=Europe/Paris:20181110T080000
DTEND;TZID=Europe/Paris:20181110T170000
DTSTAMP:20260423T170222
CREATED:20190115T101333Z
LAST-MODIFIED:20190115T101333Z
UID:11554-1541836800-1541869200@www.templelanterne.fr
SUMMARY:Marcheurs du 2e dimanche
DESCRIPTION:Plus d’informations : http://www.templelanterne.fr/marcheurs-du-deuxieme-dimanche/ \nRenseignements : 04 78 23 97 17 
URL:https://www.templelanterne.fr/event/marcheurs-du-2e-dimanche/2018-11-10/
CATEGORIES:Marcheurs du 2e dimanche,Paroisse
ATTACH;FMTTYPE=image/jpeg:https://www.templelanterne.fr/wp-content/uploads/2018/10/IMGP0162.jpg
END:VEVENT
END:VCALENDAR