BEGIN:VCALENDAR
VERSION:2.0
PRODID:-//Église Protestante Unie de Lyon-Terreaux - ECPv4.9.2//NONSGML v1.0//EN
CALSCALE:GREGORIAN
METHOD:PUBLISH
X-WR-CALNAME:Église Protestante Unie de Lyon-Terreaux
X-ORIGINAL-URL:https://www.templelanterne.fr
X-WR-CALDESC:Évènements pour Église Protestante Unie de Lyon-Terreaux
BEGIN:VEVENT
DTSTART;TZID=Europe/Paris:20180915T100000
DTEND;TZID=Europe/Paris:20180915T180000
DTSTAMP:20260423T200053
CREATED:20180608T102310Z
LAST-MODIFIED:20180608T102310Z
UID:9758-1537005600-1537034400@www.templelanterne.fr
SUMMARY:Journées européennes du patrimoine
DESCRIPTION:Samedi 15 septembre\n– 10h à 18h\, ouverture au public\n– 16h\, visite guidée du Temple\n– 17h\, Visite de l’Orgue \nDimanche 16 septembre de 12h\nà 17h\n– 12h à 17h\, ouverture au public\n– 16h\, visite guidée du Temple\n– 17h30\, Récital d’Orgue 
URL:https://www.templelanterne.fr/event/journees-europeennes-du-patrimoine/
LOCATION:Temple Lanterne\, 10\, rue Lanterne\, Lyon\, 69001\, France
CATEGORIES:Concerts,Événement culturel
END:VEVENT
END:VCALENDAR