BEGIN:VCALENDAR
VERSION:2.0
PRODID:-//Église Protestante Unie de Lyon-Terreaux - ECPv4.9.2//NONSGML v1.0//EN
CALSCALE:GREGORIAN
METHOD:PUBLISH
X-WR-CALNAME:Église Protestante Unie de Lyon-Terreaux
X-ORIGINAL-URL:https://www.templelanterne.fr
X-WR-CALDESC:Évènements pour Église Protestante Unie de Lyon-Terreaux
BEGIN:VEVENT
DTSTART;TZID=Europe/Paris:20180903T121500
DTEND;TZID=Europe/Paris:20180903T133000
DTSTAMP:20260423T200054
CREATED:20180607T174625Z
LAST-MODIFIED:20180608T100159Z
UID:9525-1535976900-1535981400@www.templelanterne.fr
SUMMARY:Culte avec Cène\, suivi d'un repas partagé
DESCRIPTION:Bienvenue ! \nÀ Caluire et Cuire\, au centre paroissial\, un Culte est organisé les 1er et 3ème lundi de chaque mois à 12h15 ; il est suivi d’un repas partagé. 
URL:https://www.templelanterne.fr/event/culte-avec-cene-4-2/
LOCATION:Salle paroissiale de Caluire\, 6 rue Albert Thomas\, Caluire-et-Cuire\, 69300\, France
CATEGORIES:Culte
ATTACH;FMTTYPE=image/jpeg:https://www.templelanterne.fr/wp-content/uploads/2017/05/last-supper-490921_1920.jpg
END:VEVENT
END:VCALENDAR