BEGIN:VCALENDAR
VERSION:2.0
PRODID:-//Église Protestante Unie de Lyon-Terreaux - ECPv4.9.2//NONSGML v1.0//EN
CALSCALE:GREGORIAN
METHOD:PUBLISH
X-WR-CALNAME:Église Protestante Unie de Lyon-Terreaux
X-ORIGINAL-URL:https://www.templelanterne.fr
X-WR-CALDESC:Évènements pour Église Protestante Unie de Lyon-Terreaux
BEGIN:VEVENT
DTSTART;TZID=Europe/Paris:20180722T113000
DTEND;TZID=Europe/Paris:20180722T120000
DTSTAMP:20260424T002451
CREATED:20180607T175325Z
LAST-MODIFIED:20180608T100307Z
UID:9513-1532259000-1532260800@www.templelanterne.fr
SUMMARY:Culte d'été
DESCRIPTION:Culte dominical. Bienvenue ! \nCultes d’été sur le Grand Lyon.\nEn juillet\, à partir du 8 : culte chaque dimanche à 10h30 au Grand Temple\, 6\, quai Augagneur.\nEn Août : Culte chaque dimanche à 10h 30 au temple du Change\, place du Change. \n\nCultes 1 juillet : Pasteur Pierre Blanzat\nCultes 8 juillet : Pasteur Vera Ezuma\nCultes du 15 juillet :Pasteur Béatrice Frossard\nCultes du 22 juillet : Pasteur Christian Bouzy\nCultes du 29 juillet : Pasteur Nicole Fabre\nCulte du 5 août : Pasteur Christophe Houpert\nCulte du 12 août : Pasteur Bernard Millet\nCulte du 19 août : Pasteur Françoise Sternberger\nCulte du 26 août : Pasteur Pierre Blanzat\n\nCe calendrier prévisionnel est susceptible de\nmodifications. 
URL:https://www.templelanterne.fr/event/culte-dete-5-2/
LOCATION:Grand Temple\, 3\, quai Victor Augagneur\, Lyon\, 69003\, France
GEO:45.7619047;4.8415078
X-APPLE-STRUCTURED-LOCATION;VALUE=URI;X-ADDRESS=Grand Temple 3 quai Victor Augagneur Lyon 69003 France;X-APPLE-RADIUS=500;X-TITLE=3\, quai Victor Augagneur:geo:4.8415078,45.7619047
CATEGORIES:Culte
ATTACH;FMTTYPE=image/jpeg:https://www.templelanterne.fr/wp-content/uploads/2017/05/last-supper-490921_1920.jpg
END:VEVENT
END:VCALENDAR