BEGIN:VCALENDAR
VERSION:2.0
PRODID:-//Église Protestante Unie de Lyon-Terreaux - ECPv4.9.2//NONSGML v1.0//EN
CALSCALE:GREGORIAN
METHOD:PUBLISH
X-WR-CALNAME:Église Protestante Unie de Lyon-Terreaux
X-ORIGINAL-URL:https://www.templelanterne.fr
X-WR-CALDESC:Évènements pour Église Protestante Unie de Lyon-Terreaux
BEGIN:VEVENT
DTSTART;TZID=Europe/Paris:20180616T150000
DTEND;TZID=Europe/Paris:20180616T180000
DTSTAMP:20260424T014040
CREATED:20180608T102536Z
LAST-MODIFIED:20180608T102651Z
UID:9764-1529161200-1529172000@www.templelanterne.fr
SUMMARY:Portes ouvertes
DESCRIPTION:Bienvenue ! Venez visiter le temple ou nous rencontrer. Tous les samedis de 15h à 18h. 
URL:https://www.templelanterne.fr/event/portes-ouvertes-3/
LOCATION:Temple Lanterne\, 10\, rue Lanterne\, Lyon\, 69001\, France
CATEGORIES:Portes ouvertes
ATTACH;FMTTYPE=image/jpeg:https://www.templelanterne.fr/wp-content/uploads/2015/05/20161012_170713.jpg
END:VEVENT
END:VCALENDAR