BEGIN:VCALENDAR
VERSION:2.0
PRODID:-//Église Protestante Unie de Lyon-Terreaux - ECPv4.9.2//NONSGML v1.0//EN
CALSCALE:GREGORIAN
METHOD:PUBLISH
X-WR-CALNAME:Église Protestante Unie de Lyon-Terreaux
X-ORIGINAL-URL:https://www.templelanterne.fr
X-WR-CALDESC:Évènements pour Église Protestante Unie de Lyon-Terreaux
BEGIN:VEVENT
DTSTART;TZID=Europe/Paris:20180605T200000
DTEND;TZID=Europe/Paris:20180605T220000
DTSTAMP:20260424T013955
CREATED:20180608T101756Z
LAST-MODIFIED:20190915T075516Z
UID:9754-1528228800-1528236000@www.templelanterne.fr
SUMMARY:Étude biblique oecuménique
DESCRIPTION:Porte à gauche de l’entrée principale du temple (si la porte est fermée\, sonnez à « salle de réunion »). \nPlus d’infos : http://www.templelanterne.fr/etudes-bibliques-oecumeniques/ 
URL:https://www.templelanterne.fr/event/etude-biblique-oecumenique/2018-06-05/
LOCATION:Temple Lanterne\, 10\, rue Lanterne\, Lyon\, 69001\, France
CATEGORIES:Étude biblique oecuménique,Paroisse
ATTACH;FMTTYPE=image/jpeg:https://www.templelanterne.fr/wp-content/uploads/2017/05/book-1209805_1920.jpg
END:VEVENT
END:VCALENDAR