BEGIN:VCALENDAR
VERSION:2.0
PRODID:-//Église Protestante Unie de Lyon-Terreaux - ECPv4.9.2//NONSGML v1.0//EN
CALSCALE:GREGORIAN
METHOD:PUBLISH
X-WR-CALNAME:Église Protestante Unie de Lyon-Terreaux
X-ORIGINAL-URL:https://www.templelanterne.fr
X-WR-CALDESC:Évènements pour Église Protestante Unie de Lyon-Terreaux
BEGIN:VEVENT
DTSTART;TZID=Europe/Paris:20190915T073000
DTEND;TZID=Europe/Paris:20190915T210000
DTSTAMP:20260420T092409
CREATED:20190612T130900Z
LAST-MODIFIED:20190908T173909Z
UID:12868-1568532600-1568581200@www.templelanterne.fr
SUMMARY:Voyage paroissial au Chambon-sur-Lignon
DESCRIPTION:Sortie de paroisse en bus au Chambon-sur-Lignon\, dimanche 15 septembre\nRéservez votre place sans tarder ! \nTélécharger l’affiche et le bulletin d’inscription (PDF) \nPour profiter des derniers jours de l’été et pour vivre une journée communautaire\, au seuil de la nouvelle l’année académique\, notre paroisse vous propose une sortie en bus au Chambon sur Lignon.  Une occasion de nous retrouver dans un autre lieu\, une autre paroisse et de visiter « le lieu de mémoire ». Un lieu très sensible dédié à l’histoire des justes et des résistances pendant la 2e guerre mondiale\, avec une muséographie très intéressante sur l’histoire du plateau du Chambon et sa tradition d’accueil au cours des siècles… \nProgramme de la journée :\n\n\n\n\n\n\n\n\n7h : Départ de Caluire devant l’Infirmerie Protestante (métro C\, terminus Cuire)\n10 h 30 : Culte au Temple du Chambon-sur-Lignon\n12 h : Pique-nique\n14 h  et 15 h : Visite du Village et du lieu de mémoire.\nRetour avant 20 h à l’Infirmerie Protestante à Caluire\n\n\n\n\nPrix de la sortie : 35 € (comprenant le transport en bus\, l’entrée au lieu de mémoire et la visite guidée ) \nPour l’organisation\, et pour la réservation du bus\, il est impératif de vous inscrire avant le 10 juillet\, avec un premier versement de 20 € \n\n\n\nInscriptions dès le 8 juin auprès d’Elisabeth Boursey ou Olivier Durand-Evrad. \nTélécharger l’affiche et le bulletin d’inscription (PDF) 
URL:https://www.templelanterne.fr/event/voyage-paroissial-au-chambon-sur-lignon/
LOCATION:Temple Lanterne\, 10\, rue Lanterne\, Lyon\, 69001\, France
CATEGORIES:Événement culturel,Événements paroissiaux exceptionnels,Paroisse,Vie paroissiale
ATTACH;FMTTYPE=image/jpeg:https://www.templelanterne.fr/wp-content/uploads/2019/06/chambon-sur-lignon-1.jpg
END:VEVENT
END:VCALENDAR