BEGIN:VCALENDAR
VERSION:2.0
PRODID:-//Église Protestante Unie de Lyon-Terreaux - ECPv4.9.2//NONSGML v1.0//EN
CALSCALE:GREGORIAN
METHOD:PUBLISH
X-WR-CALNAME:Église Protestante Unie de Lyon-Terreaux
X-ORIGINAL-URL:https://www.templelanterne.fr
X-WR-CALDESC:Évènements pour Église Protestante Unie de Lyon-Terreaux
BEGIN:VEVENT
DTSTART;TZID=Europe/Paris:20190119T170000
DTEND;TZID=Europe/Paris:20190119T180000
DTSTAMP:20260420T042657
CREATED:20190311T125024Z
LAST-MODIFIED:20200913T212447Z
UID:12095-1547917200-1547920800@www.templelanterne.fr
SUMMARY:Visite de l'orgue
DESCRIPTION:Visite de l’orgue\, par Guy Blanc\, notre organiste. Le troisième samedi du mois à 17h. \n+ Visite spéciale pour les Journées du Patrimoine. \nPlus d’infos sur l’orgue : http://www.templelanterne.fr/les-amis-de-lorgue/ 
URL:https://www.templelanterne.fr/event/visite-de-lorgue/2019-01-19/
LOCATION:Temple Lanterne\, 10\, rue Lanterne\, Lyon\, 69001\, France
CATEGORIES:Événement culturel,Orgue,Paroisse,Visite de l'orgue
ATTACH;FMTTYPE=image/jpeg:https://www.templelanterne.fr/wp-content/uploads/2019/03/aZtDlqaNSuKOv7trdna3vw_thumb_5777.jpg
END:VEVENT
END:VCALENDAR