BEGIN:VCALENDAR
VERSION:2.0
PRODID:-//Église Protestante Unie de Lyon-Terreaux - ECPv4.9.2//NONSGML v1.0//EN
CALSCALE:GREGORIAN
METHOD:PUBLISH
X-WR-CALNAME:Église Protestante Unie de Lyon-Terreaux
X-ORIGINAL-URL:https://www.templelanterne.fr
X-WR-CALDESC:Évènements pour Église Protestante Unie de Lyon-Terreaux
BEGIN:VEVENT
DTSTART;TZID=Europe/Paris:20251207T090000
DTEND;TZID=Europe/Paris:20251207T170000
DTSTAMP:20260420T042939
CREATED:20251204T152153Z
LAST-MODIFIED:20251204T152153Z
UID:18999-1765098000-1765126800@www.templelanterne.fr
SUMMARY:Marché de Noël au Foyer Protestant de la Duchère
DESCRIPTION:Les 6 et 7 décembre au 309 Av. Andreï Sakharov 69009 Lyon\, 0478353066 \nPour plus d’informations\, cliquez sur ce lien https://www.templelanterne.fr/le-marche-de-noel-du-foyer/ \n  
URL:https://www.templelanterne.fr/event/marche-de-noel-au-foyer-protestant-de-la-duchere/2025-12-07/
LOCATION:Foyer de la Duchère\, 309 Av. Andreï Sakharov\, Lyon\, 69009\, France
GEO:45.7874726;4.800952
X-APPLE-STRUCTURED-LOCATION;VALUE=URI;X-ADDRESS=Foyer de la Duchère 309 Av. Andreï Sakharov Lyon 69009 France;X-APPLE-RADIUS=500;X-TITLE=309 Av. Andreï Sakharov:geo:4.800952,45.7874726
CATEGORIES:Événements paroissiaux exceptionnels
ATTACH;FMTTYPE=image/jpeg:https://www.templelanterne.fr/wp-content/uploads/2025/12/christmas-6828416_1280.jpg
END:VEVENT
END:VCALENDAR