BEGIN:VCALENDAR
VERSION:2.0
PRODID:-//Église Protestante Unie de Lyon-Terreaux - ECPv4.9.2//NONSGML v1.0//EN
CALSCALE:GREGORIAN
METHOD:PUBLISH
X-WR-CALNAME:Église Protestante Unie de Lyon-Terreaux
X-ORIGINAL-URL:https://www.templelanterne.fr
X-WR-CALDESC:Évènements pour Église Protestante Unie de Lyon-Terreaux
BEGIN:VEVENT
DTSTART;TZID=Europe/Paris:20180621T120000
DTEND;TZID=Europe/Paris:20180621T153000
DTSTAMP:20260421T023831
CREATED:20180608T101652Z
LAST-MODIFIED:20180608T101652Z
UID:9752-1529582400-1529595000@www.templelanterne.fr
SUMMARY:Les enjeux de la parole
DESCRIPTION:Repas partagé à 12h. Réunion à 14h30 
URL:https://www.templelanterne.fr/event/les-enjeux-de-la-parole/
LOCATION:Temple Lanterne\, 10\, rue Lanterne\, Lyon\, 69001\, France
CATEGORIES:Enjeux de la parole
ATTACH;FMTTYPE=image/jpeg:https://www.templelanterne.fr/wp-content/uploads/2017/05/bible-1414700_1920.jpg
END:VEVENT
END:VCALENDAR