BEGIN:VCALENDAR
VERSION:2.0
PRODID:-//Église Protestante Unie de Lyon-Terreaux - ECPv4.9.2//NONSGML v1.0//EN
CALSCALE:GREGORIAN
METHOD:PUBLISH
X-WR-CALNAME:Église Protestante Unie de Lyon-Terreaux
X-ORIGINAL-URL:https://www.templelanterne.fr
X-WR-CALDESC:Évènements pour Église Protestante Unie de Lyon-Terreaux
BEGIN:VEVENT
DTSTART;TZID=Europe/Paris:20230121T093000
DTEND;TZID=Europe/Paris:20230121T163000
DTSTAMP:20260420T062304
CREATED:20221218T150139Z
LAST-MODIFIED:20221218T150216Z
UID:16359-1674293400-1674318600@www.templelanterne.fr
SUMMARY:Journée "Communication non violente et spiritualité"
DESCRIPTION:\n\n\nChers amis\, \n\n\n\n\nIl nous arrive à tous de nous emporter pour une raison apparemment sans importance. Parfois\, nous sommes surpris par la vigueur de nos réactions à la suite d’une remarque malheureuse\, un jugement hâtif. Nous pouvons ainsi nous couper des autres\, de nous-mêmes et de Dieu parfois. \n« La communication non violente est comme une langue à découvrir\, un instrument de musique à faire chanter. Elle nous ouvre la porte d’un monde où nous réussissons non seulement à nous exprimer en tenant compte de notre interlocuteur mais également à laisser derrière nous les violences inconscientes que nous nous faisons à nous-même. Proposant un cadre simple et puissant pour développer les relations respectueuses de soi et des autres\, elle s’appuie sur les compétences que nous utilisons spontanément lorsque nous vivons des relations harmonieuses et créatrices. »\, citation extraite de « Pratiquer la communication non violente – Passeport pour un monde où l’on ose se parler en sachant comment le dire » – Françoise Keller. \nLe conseil presbytéral vous propose une journée d’initiation à la communication non-violente\, samedi 21 janvier\, de 09h30 à 16h30\, 10 rue Lanterne : « Communication non-violente et spiritualité ». \nCette journée s’inscrit dans le projet de vie de notre paroisse\, projet dont l’un des axes est de travailler l’accueil mutuel. \n♦ L’initiation sera conduite par Françoise Keller\, formatrice certifiée en communication non violente. Vous pouvez lire l’article que lui a consacré Olivier Durand-Evrard dans la Lettre de la Lanterne n° 147\, page 8.\nEn voici quelques extraits : « La CNV met à jour les talents naturels que nous avons tous pour être en relation les uns avec les autres\, dans une relation qui respecte les aspirations de chacun. C’est un processus qui met de la clarté sur ce qui se joue quand nous sommes en relation et qui me permet d’augmenter mes chances de vivre la qualité de relation que j’aspire à vivre et de permettre à l’autre de faire de même. ». \nPour nous chrétiens\, cette approche nous rejoint pour nous aider à vivre le commandement d’amour du Christ : aimer autrui\, comme soi-même et même aimer ses ennemis. Pour moi la CNV a enrichi ma foi et ma foi me permet de recevoir la CNV en profondeur… \n♦ Le coût de la participation à cette journée est de 30 € par personne. Nous souhaitons constituer un groupe de 30 personnes. Vous pouvez vous inscrire auprès de l’un des conseillers presbytéraux\, par mail ou à l’issue d’un culte. \nNous restons à votre disposition pour répondre à vos questions. \nFraternellement\, \n\n\n\n\nOlivier Durand-Evrard\, Laure Exertier\, Françoise Duyck\, Christian Bouzy\, Eve Konarski \n\n\n
URL:https://www.templelanterne.fr/event/journee-communication-non-violente-et-spiritualite/
LOCATION:Temple Lanterne\, 10\, rue Lanterne\, Lyon\, 69001\, France
ATTACH;FMTTYPE=image/jpeg:https://www.templelanterne.fr/wp-content/uploads/2022/12/flowers-8690_1920.jpg
END:VEVENT
END:VCALENDAR