BEGIN:VCALENDAR
VERSION:2.0
PRODID:-//Église Protestante Unie de Lyon-Terreaux - ECPv4.9.2//NONSGML v1.0//EN
CALSCALE:GREGORIAN
METHOD:PUBLISH
X-WR-CALNAME:Église Protestante Unie de Lyon-Terreaux
X-ORIGINAL-URL:https://www.templelanterne.fr
X-WR-CALDESC:Évènements pour Église Protestante Unie de Lyon-Terreaux
BEGIN:VEVENT
DTSTART;TZID=Europe/Paris:20191006T143000
DTEND;TZID=Europe/Paris:20191006T170000
DTSTAMP:20260420T061217
CREATED:20190914T182654Z
LAST-MODIFIED:20190914T182654Z
UID:13178-1570372200-1570381200@www.templelanterne.fr
SUMMARY:Fête de l'automne
DESCRIPTION:6 rue Albert Thomas à Caluire\, pour les enfants de moins de 12 ans \nDimanche 6 octobre de 14h30 à 17h \n– Jardinage en petits pots avec présentation des plantes utilisées. Les enfants pourront emporter les pots chez eux. \n– Construction de cabanes en rondins et branchages. \n– Animation… surprise\, proposée par 2 enfants de 11 et 6 ans. \n– Goûter offert à tous \nParticipation gratuite – inscription obligatoire car le nombre de places est limité : \nfamilles.afp.lyon@nullgmail.com   ou par tél. à Martine Ferrier au 0664282745 \nLes enfants de plus de 12 ans et les parents pourront participer à l’organisation de la fête. \nJean-Marc de Visme (pour l’AFP) 
URL:https://www.templelanterne.fr/event/fete-de-lautomne/
LOCATION:Salle paroissiale de Caluire\, 6 rue Albert Thomas\, Caluire-et-Cuire\, 69300\, France
CATEGORIES:AFP-Entraide
ATTACH;FMTTYPE=image/jpeg:https://www.templelanterne.fr/wp-content/uploads/2019/09/13-Cabane2-copie.jpeg
END:VEVENT
END:VCALENDAR