BEGIN:VCALENDAR
VERSION:2.0
PRODID:-//Église Protestante Unie de Lyon-Terreaux - ECPv4.9.2//NONSGML v1.0//EN
CALSCALE:GREGORIAN
METHOD:PUBLISH
X-WR-CALNAME:Église Protestante Unie de Lyon-Terreaux
X-ORIGINAL-URL:https://www.templelanterne.fr
X-WR-CALDESC:Évènements pour Église Protestante Unie de Lyon-Terreaux
BEGIN:VEVENT
DTSTART;TZID=Europe/Paris:20251207T103000
DTEND;TZID=Europe/Paris:20251207T120000
DTSTAMP:20260419T190136
CREATED:20251129T192202Z
LAST-MODIFIED:20251129T195432Z
UID:18935-1765103400-1765108800@www.templelanterne.fr
SUMMARY:Culte du 2ème dimanche de l’Avent\, rue Lanterne
DESCRIPTION:\nCulte dominical\, rue Lanterne. \n\nDeuxième dimanche de l’Avent\, culte du 7 décembre à 10h30 au temple des Terreaux. \n\nPour plus d’informations : http://www.templelanterne.fr/le-culte/ \nBienvenue ! \n
URL:https://www.templelanterne.fr/event/culte-du-2eme-dimanche-de-lavent-rue-lanterne/
CATEGORIES:Culte,Paroisse
ATTACH;FMTTYPE=image/jpeg:https://www.templelanterne.fr/wp-content/uploads/2025/11/second-advent-1801984_1280.jpg
END:VEVENT
END:VCALENDAR