BEGIN:VCALENDAR
VERSION:2.0
PRODID:-//Église Protestante Unie de Lyon-Terreaux - ECPv4.9.2//NONSGML v1.0//EN
CALSCALE:GREGORIAN
METHOD:PUBLISH
X-WR-CALNAME:Église Protestante Unie de Lyon-Terreaux
X-ORIGINAL-URL:https://www.templelanterne.fr
X-WR-CALDESC:Évènements pour Église Protestante Unie de Lyon-Terreaux
BEGIN:VEVENT
DTSTART;TZID=Europe/Paris:20250720T103000
DTEND;TZID=Europe/Paris:20250720T113000
DTSTAMP:20260420T042912
CREATED:20250630T122735Z
LAST-MODIFIED:20250630T123628Z
UID:18131-1753007400-1753011000@www.templelanterne.fr
SUMMARY:Culte d’été au Grand Temple
DESCRIPTION:Pendant l’été\, les cultes sont communs à toutes les paroisses du centre-ville de Lyon. \n\nLe 6\, 13\, 20 et 27 juillet le culte aura lieu au Grand Temple\, 3 quai Augagneur\, Lyon 3ème.\n\nBienvenu.e.s! \n  
URL:https://www.templelanterne.fr/event/culte-dete-au-grand-temple/2025-07-20/
LOCATION:Grand Temple\, 3\, quai Victor Augagneur\, Lyon\, 69003\, France
GEO:45.7619047;4.8415078
X-APPLE-STRUCTURED-LOCATION;VALUE=URI;X-ADDRESS=Grand Temple 3 quai Victor Augagneur Lyon 69003 France;X-APPLE-RADIUS=500;X-TITLE=3\, quai Victor Augagneur:geo:4.8415078,45.7619047
CATEGORIES:Culte,Été 2025,Paroisse
ATTACH;FMTTYPE=image/jpeg:https://www.templelanterne.fr/wp-content/uploads/2025/06/flowers-276014_1280.jpg
END:VEVENT
END:VCALENDAR