BEGIN:VCALENDAR
VERSION:2.0
PRODID:-//Église Protestante Unie de Lyon-Terreaux - ECPv4.9.2//NONSGML v1.0//EN
CALSCALE:GREGORIAN
METHOD:PUBLISH
X-WR-CALNAME:Église Protestante Unie de Lyon-Terreaux
X-ORIGINAL-URL:https://www.templelanterne.fr
X-WR-CALDESC:Évènements pour Église Protestante Unie de Lyon-Terreaux
BEGIN:VEVENT
DTSTART;TZID=Europe/Paris:20200719T103000
DTEND;TZID=Europe/Paris:20200719T120000
DTSTAMP:20260422T101807
CREATED:20200702T201114Z
LAST-MODIFIED:20200702T202447Z
UID:14273-1595154600-1595160000@www.templelanterne.fr
SUMMARY:Culte d'été
DESCRIPTION:\nEn Juillet\, culte chaque dimanche au Grand Temple à 10h30\, 6 quai Augagneur\, Lyon 3e.\nEn Août\, culte au temple de Change à 10h30\, place du Change\, Lyon 5e.\n
URL:https://www.templelanterne.fr/event/culte-dete-8-2020-07-19/2020-07-19/
LOCATION:Grand Temple\, 3\, quai Victor Augagneur\, Lyon\, 69003\, France
GEO:45.7619047;4.8415078
X-APPLE-STRUCTURED-LOCATION;VALUE=URI;X-ADDRESS=Grand Temple 3 quai Victor Augagneur Lyon 69003 France;X-APPLE-RADIUS=500;X-TITLE=3\, quai Victor Augagneur:geo:4.8415078,45.7619047
CATEGORIES:Culte,Paroisse
ATTACH;FMTTYPE=image/jpeg:https://www.templelanterne.fr/wp-content/uploads/2020/07/chickadee-5130696_1920.jpg
END:VEVENT
END:VCALENDAR