BEGIN:VCALENDAR
VERSION:2.0
PRODID:-//Église Protestante Unie de Lyon-Terreaux - ECPv4.9.2//NONSGML v1.0//EN
CALSCALE:GREGORIAN
METHOD:PUBLISH
X-WR-CALNAME:Église Protestante Unie de Lyon-Terreaux
X-ORIGINAL-URL:https://www.templelanterne.fr
X-WR-CALDESC:Évènements pour Église Protestante Unie de Lyon-Terreaux
BEGIN:VEVENT
DTSTART;TZID=Europe/Paris:20190707T103000
DTEND;TZID=Europe/Paris:20190707T120000
DTSTAMP:20260420T062137
CREATED:20190612T141932Z
LAST-MODIFIED:20190630T101058Z
UID:12894-1562495400-1562500800@www.templelanterne.fr
SUMMARY:Culte d'été
DESCRIPTION:En juillet : culte chaque dimanche à 10 h 30 au Grand Temple\, 6 quai Augagneur \nEn août : Culte chaque dimanche au temple du Change\, place du Change \nPendant l’été\, pour joindre un pasteur il faut appeler le secrétariat de l’Église de Lyon au n° : 04-78-62-67-59. Une boîte vocale vous mettra en relation avec le pasteur de permanence. \nLes cultes en juillet au grand temple et en août au temple du Change seront assurés par : \n\nCultes 7 juillet : Pasteur Pierre Blanzat\nCultes du 14 juillet :Pasteur Nadine Heller\nCultes du 21 juillet  : Pasteur Béatrice Frossard\nCultes du 28 juillet : Pasteur Christian Bouzy\nCulte du 4 août : Pasteur Edina Pulaï\nCulte du 11 août : Pasteur Françoise Sternberger\nCulte du 18 août : Pasteur BernardMillet\nCulte du 25 août : Pasteur Franck Nespoulet\n\nCe calendrier prévisionnel est susceptible de modification. 
URL:https://www.templelanterne.fr/event/culte-dete-6/2019-07-07/
LOCATION:Grand Temple\, 3\, quai Victor Augagneur\, Lyon\, 69003\, France
GEO:45.7619047;4.8415078
X-APPLE-STRUCTURED-LOCATION;VALUE=URI;X-ADDRESS=Grand Temple 3 quai Victor Augagneur Lyon 69003 France;X-APPLE-RADIUS=500;X-TITLE=3\, quai Victor Augagneur:geo:4.8415078,45.7619047
CATEGORIES:Culte,Paroisse
ATTACH;FMTTYPE=image/jpeg:https://www.templelanterne.fr/wp-content/uploads/2018/10/nature-3189460-1.jpg
END:VEVENT
END:VCALENDAR