BEGIN:VCALENDAR
VERSION:2.0
PRODID:-//Église Protestante Unie de Lyon-Terreaux - ECPv4.9.2//NONSGML v1.0//EN
CALSCALE:GREGORIAN
METHOD:PUBLISH
X-WR-CALNAME:Église Protestante Unie de Lyon-Terreaux
X-ORIGINAL-URL:https://www.templelanterne.fr
X-WR-CALDESC:Évènements pour Église Protestante Unie de Lyon-Terreaux
BEGIN:VEVENT
DTSTART;TZID=Europe/Paris:20220710T103000
DTEND;TZID=Europe/Paris:20220710T120000
DTSTAMP:20260420T070851
CREATED:20220713T154204Z
LAST-MODIFIED:20220713T170434Z
UID:15936-1657449000-1657454400@www.templelanterne.fr
SUMMARY:Culte d'été
DESCRIPTION:Pendant l’été\, les cultes sont communs à toutes les paroisses du centre-ville de Lyon. \n\n\n\nEn juillet\, ils ont lieu chaque dimanche à 10h30 au Temple du Change\, place du Change\, Lyon 5ème.\nEn août\, ils ont lieu chaque dimanche à 10h30 au Grand Temple\, 3 quai Augagneur\, Lyon 3ème.\n\nBienvenue !\n\n
URL:https://www.templelanterne.fr/event/culte-dete-11-2022-07-10/
LOCATION:Temple du Change\, Place du Change\, Lyon\, 69005\, France
GEO:45.7645707;4.8284174
X-APPLE-STRUCTURED-LOCATION;VALUE=URI;X-ADDRESS=Temple du Change Place du Change Lyon 69005 France;X-APPLE-RADIUS=500;X-TITLE=Place du Change:geo:4.8284174,45.7645707
CATEGORIES:Culte,Été 2022,Paroisse
ATTACH;FMTTYPE=image/jpeg:https://www.templelanterne.fr/wp-content/uploads/2022/07/melon-3630346_1920.jpg
END:VEVENT
END:VCALENDAR