BEGIN:VCALENDAR
VERSION:2.0
PRODID:-//Église Protestante Unie de Lyon-Terreaux - ECPv4.9.2//NONSGML v1.0//EN
CALSCALE:GREGORIAN
METHOD:PUBLISH
X-WR-CALNAME:Église Protestante Unie de Lyon-Terreaux
X-ORIGINAL-URL:https://www.templelanterne.fr
X-WR-CALDESC:Évènements pour Église Protestante Unie de Lyon-Terreaux
BEGIN:VEVENT
DTSTART;TZID=Europe/Paris:20191225T103000
DTEND;TZID=Europe/Paris:20191225T120000
DTSTAMP:20260420T093408
CREATED:20191222T141555Z
LAST-MODIFIED:20191222T142414Z
UID:13443-1577269800-1577275200@www.templelanterne.fr
SUMMARY:Culte du matin de Noël
DESCRIPTION:Mardi 24 décembre de 19h à 20h : Culte de la nuit de Noël\nMercredi 25 décembre à 10h30 : Culte du matin de Noël\n
URL:https://www.templelanterne.fr/event/culte-de-la-nuit-de-noel-2/
LOCATION:Temple Lanterne\, 10\, rue Lanterne\, Lyon\, 69001\, France
CATEGORIES:À la une,Culte,Paroisse
ATTACH;FMTTYPE=image/jpeg:https://www.templelanterne.fr/wp-content/uploads/2019/12/Présentation1.jpg
END:VEVENT
END:VCALENDAR