BEGIN:VCALENDAR
VERSION:2.0
PRODID:-//Église Protestante Unie de Lyon-Terreaux - ECPv4.9.2//NONSGML v1.0//EN
CALSCALE:GREGORIAN
METHOD:PUBLISH
X-WR-CALNAME:Église Protestante Unie de Lyon-Terreaux
X-ORIGINAL-URL:https://www.templelanterne.fr
X-WR-CALDESC:Évènements pour Église Protestante Unie de Lyon-Terreaux
BEGIN:VEVENT
DTSTART;TZID=Europe/Paris:20191229T103000
DTEND;TZID=Europe/Paris:20191229T120000
DTSTAMP:20260420T042638
CREATED:20191222T141555Z
LAST-MODIFIED:20191228T211804Z
UID:13445-1577615400-1577620800@www.templelanterne.fr
SUMMARY:Culte du Consistoire
DESCRIPTION:Culte unique pour le consistoire de Lyon. à 10h30\, rue Lanterne. 
URL:https://www.templelanterne.fr/event/culte-consistoire/
LOCATION:Temple Lanterne\, 10\, rue Lanterne\, Lyon\, 69001\, France
CATEGORIES:À la une,Culte,Paroisse
ATTACH;FMTTYPE=image/jpeg:https://www.templelanterne.fr/wp-content/uploads/2019/12/winter-843578_1920-e1577377600950.jpg
END:VEVENT
END:VCALENDAR