BEGIN:VCALENDAR
VERSION:2.0
PRODID:-//Église Protestante Unie de Lyon-Terreaux - ECPv4.9.2//NONSGML v1.0//EN
CALSCALE:GREGORIAN
METHOD:PUBLISH
X-WR-CALNAME:Église Protestante Unie de Lyon-Terreaux
X-ORIGINAL-URL:https://www.templelanterne.fr
X-WR-CALDESC:Évènements pour Église Protestante Unie de Lyon-Terreaux
BEGIN:VEVENT
DTSTART;TZID=Europe/Paris:20200215T200000
DTEND;TZID=Europe/Paris:20200215T220000
DTSTAMP:20260420T062358
CREATED:20200121T211836Z
LAST-MODIFIED:20200121T211836Z
UID:13669-1581796800-1581804000@www.templelanterne.fr
SUMMARY:Concert "Une soirée au Salon de la Princesse de Polignac"
DESCRIPTION:Notre temple accueille un concert exceptionnel\, avec orchestre\, ensemble vocal et orgue ! \nPour plus d’informations\, merci de prendre contact directement avec l’orchestre Meltin’Cordes\, organisateur du concert : https://meltincordes.wordpress.com/ \nPROGRAMME :  \nFrancis Poulenc (1899-1963)\nLitanies à la Vierge Noire pour chœur de femmes et orgue (1936) \nFranck Vaudray (né en 1964)\nConcertodéon pour accordéon\, orchestre à cordes et timbales (2019)\nCréation\, commande de l’orchestre Meltin’Cordes \nWolfgang Amadeus Mozart (1756-1791)\nDivertimento pour cordes K. 136 \nFrancis Poulenc\nConcerto en sol mineur pour orgue\, orchestre à cordes et timbales (1938) \nMUSICIENS : \n\nThierry Bouchet\, accordéon\nThomas Ospital\, orgue\nEnsemble vocal Esquisses\nOrchestre Meltin’Cordes\nSamuel Couffignal\, direction\n\nPlus d’infos : https://www.helloasso.com/associations/meltin%20cordes/collectes/une-soiree-au-salon-de-la-princesse-de-polignac 
URL:https://www.templelanterne.fr/event/concert-une-soiree-au-salon-de-la-princesse-de-polignac/
LOCATION:Temple Lanterne\, 10\, rue Lanterne\, Lyon\, 69001\, France
CATEGORIES:Concerts,Concerts d'orgue,Orgue
ATTACH;FMTTYPE=image/png:https://www.templelanterne.fr/wp-content/uploads/2020/01/affiche.png
END:VEVENT
END:VCALENDAR