BEGIN:VCALENDAR
VERSION:2.0
PRODID:-//Église Protestante Unie de Lyon-Terreaux - ECPv4.9.2//NONSGML v1.0//EN
CALSCALE:GREGORIAN
METHOD:PUBLISH
X-WR-CALNAME:Église Protestante Unie de Lyon-Terreaux
X-ORIGINAL-URL:https://www.templelanterne.fr
X-WR-CALDESC:Évènements pour Église Protestante Unie de Lyon-Terreaux
BEGIN:VEVENT
DTSTART;TZID=Europe/Paris:20220411T190000
DTEND;TZID=Europe/Paris:20220411T200000
DTSTAMP:20260422T120214
CREATED:20220412T110830Z
LAST-MODIFIED:20220412T110830Z
UID:15869-1649703600-1649707200@www.templelanterne.fr
SUMMARY:Célébration œcuménique
DESCRIPTION:Célébration œcuménique\, « de Noé sauvé du déluge à Jésus mort et ressuscité » \, en l’Eglise Saint Augustin\, 27 rue Denfert-Rochereau Lyon 4. 
URL:https://www.templelanterne.fr/event/celebration-oecumenique-2/
LOCATION:Église Aaint Augustin\, 27 rue Denfert-Rochereau\, Lyon\, 69004\, France
GEO:45.7758667;4.8249556
X-APPLE-STRUCTURED-LOCATION;VALUE=URI;X-ADDRESS=Église Aaint Augustin 27 rue Denfert-Rochereau Lyon 69004 France;X-APPLE-RADIUS=500;X-TITLE=27 rue Denfert-Rochereau:geo:4.8249556,45.7758667
CATEGORIES:Célébration œcuménique,Culte,Étude biblique oecuménique,Paroisse,Semaine pour l'unité
ATTACH;FMTTYPE=image/jpeg:https://www.templelanterne.fr/wp-content/uploads/2022/04/ark-2586463_1920.jpg
END:VEVENT
END:VCALENDAR