BEGIN:VCALENDAR
VERSION:2.0
PRODID:-//Église Protestante Unie de Lyon-Terreaux - ECPv4.9.2//NONSGML v1.0//EN
CALSCALE:GREGORIAN
METHOD:PUBLISH
X-WR-CALNAME:Église Protestante Unie de Lyon-Terreaux
X-ORIGINAL-URL:https://www.templelanterne.fr
X-WR-CALDESC:Évènements pour Église Protestante Unie de Lyon-Terreaux
BEGIN:VEVENT
DTSTART;TZID=Europe/Paris:20240615T160000
DTEND;TZID=Europe/Paris:20240615T173000
DTSTAMP:20260420T060518
CREATED:20240603T095022Z
LAST-MODIFIED:20240603T095022Z
UID:16973-1718467200-1718472600@www.templelanterne.fr
SUMMARY:Café-débat : L’Espérance\, dans l’attente ou dans l’action
DESCRIPTION:Chers ami-e-s\, \nNous avons le plaisir de vous inviter à notre prochain CAFE-DEBAT : \nLe samedi 15 juin de 16h à 17h30\nDans le cadre des portes ouvertes du Temple\n10 rue Lanterne\, 69001 Lyon\, \nNous entendrons des témoignages et dialoguerons sur les motivations spirituelles et éthiques de nos engagements dans la société… \nBienvenue à toutes et tous ! \n 
URL:https://www.templelanterne.fr/event/cafe-debat-lesperance-dans-lattente-ou-dans-laction/
LOCATION:Temple Lanterne\, 10\, rue Lanterne\, Lyon\, 69001\, France
CATEGORIES:Café-débat,Paroisse,Vie paroissiale
ATTACH;FMTTYPE=image/jpeg:https://www.templelanterne.fr/wp-content/uploads/2024/06/affiche-A4-A3-café-débat-esperance-B243-scaled.jpg
END:VEVENT
END:VCALENDAR