BEGIN:VCALENDAR
VERSION:2.0
PRODID:-//Église Protestante Unie de Lyon-Terreaux - ECPv4.9.2//NONSGML v1.0//EN
CALSCALE:GREGORIAN
METHOD:PUBLISH
X-WR-CALNAME:Église Protestante Unie de Lyon-Terreaux
X-ORIGINAL-URL:https://www.templelanterne.fr
X-WR-CALDESC:Évènements pour Église Protestante Unie de Lyon-Terreaux
BEGIN:VEVENT
DTSTART;TZID=Europe/Paris:20251115T160000
DTEND;TZID=Europe/Paris:20251115T173000
DTSTAMP:20260420T061415
CREATED:20251016T111349Z
LAST-MODIFIED:20251016T111349Z
UID:18871-1763222400-1763227800@www.templelanterne.fr
SUMMARY:Café-débat "Et nos fragilités\, comment vivre avec?"
DESCRIPTION:Bienvenue au prochain café-débat ! \nDans ce monde qui exalte la force et les performances\, la vulnérabilité est gênante; elle encombre et fait honte.  On fait semblant d’être à la hauteur\, même si on est en miettes à l’intérieur. Et si nos faiblesses étaient aussi une force… \nAvec la participation des intervenants en milieu hospitalier\, dans le champ du handicap ou la souffrance physique. \nSamedi 15 novembre 2025 de 16h à 17h30. \n\n \n  
URL:https://www.templelanterne.fr/event/cafe-debat-et-nos-fragilites-comment-vivre-avec/
LOCATION:Temple Lanterne\, 10\, rue Lanterne\, Lyon\, 69001\, France
CATEGORIES:Café-débat,Paroisse,Rencontre en après-midi,Vie paroissiale
ATTACH;FMTTYPE=image/jpeg:https://www.templelanterne.fr/wp-content/uploads/2025/10/dandelion-8318529_1280.jpg
END:VEVENT
END:VCALENDAR