BEGIN:VCALENDAR
VERSION:2.0
PRODID:-//Église Protestante Unie de Lyon-Terreaux - ECPv4.9.2//NONSGML v1.0//EN
CALSCALE:GREGORIAN
METHOD:PUBLISH
X-WR-CALNAME:Église Protestante Unie de Lyon-Terreaux
X-ORIGINAL-URL:https://www.templelanterne.fr
X-WR-CALDESC:Évènements pour Église Protestante Unie de Lyon-Terreaux
BEGIN:VEVENT
DTSTART;TZID=Europe/Paris:20191017T180000
DTEND;TZID=Europe/Paris:20191017T200000
DTSTAMP:20260420T062223
CREATED:20190914T155514Z
LAST-MODIFIED:20200913T210132Z
UID:13100-1571335200-1571342400@www.templelanterne.fr
SUMMARY:Approche théologique
DESCRIPTION:Groupe de réflexion théologique. Sonnez à la porte à gauche de l’entrée principale du temple. 
URL:https://www.templelanterne.fr/event/approche-theologique/2019-10-17/
LOCATION:Temple Lanterne\, 10\, rue Lanterne\, Lyon\, 69001\, France
CATEGORIES:Paroisse,Réflexion théologique
ATTACH;FMTTYPE=image/jpeg:https://www.templelanterne.fr/wp-content/uploads/2019/09/martin-luther-2357004_1920.jpg
END:VEVENT
END:VCALENDAR